BEGIN:VCALENDAR
VERSION:2.0
PRODID:-//Domaine du Pignoulet - ECPv6.3.0//NONSGML v1.0//EN
CALSCALE:GREGORIAN
METHOD:PUBLISH
X-WR-CALNAME:Domaine du Pignoulet
X-ORIGINAL-URL:https://www.pignoulet.com
X-WR-CALDESC:Events for Domaine du Pignoulet
REFRESH-INTERVAL;VALUE=DURATION:PT1H
X-Robots-Tag:noindex
X-PUBLISHED-TTL:PT1H
BEGIN:VTIMEZONE
TZID:UTC
BEGIN:STANDARD
TZOFFSETFROM:+0000
TZOFFSETTO:+0000
TZNAME:UTC
DTSTART:20270101T000000
END:STANDARD
END:VTIMEZONE
BEGIN:VEVENT
DTSTART;VALUE=DATE:20270422
DTEND;VALUE=DATE:20270427
DTSTAMP:20260424T133944
CREATED:20240125T171448Z
LAST-MODIFIED:20260402T160820Z
UID:32620-1808352000-1808783999@www.pignoulet.com
SUMMARY:Pilates Retreat weekend with friends
DESCRIPTION:A group of friends on a Pilates/Yoga Retreat in the SW of France – what could be better?
URL:https://www.pignoulet.com/event/pilates-retreat-weekend-with-friends/
LOCATION:Domaine du Pignoulet\, France
CATEGORIES:Pilates Retreat,Private Booking
ATTACH;FMTTYPE=image/jpeg:https://www.pignoulet.com/wp-content/uploads/2023/03/0A9B0F24-C475-40F2-B9B9-950362975394.jpeg
END:VEVENT
BEGIN:VEVENT
DTSTART;VALUE=DATE:20270428
DTEND;VALUE=DATE:20270504
DTSTAMP:20260424T133944
CREATED:20240125T164101Z
LAST-MODIFIED:20260402T161021Z
UID:32604-1808870400-1809388799@www.pignoulet.com
SUMMARY:@moveintowellness - Retreat - hosted by Claire Darlow
DESCRIPTION:Move into Wellness French Pilates Retreat – hosted by Claire Darlow. Claire’s third Retreat with us at Pignoulet. A combination of classes and wellbeing sessions offered by Claire.
URL:https://www.pignoulet.com/event/moveintowellness-retreat-hosted-by-claire-darlow/
LOCATION:Domaine du Pignoulet\, France
CATEGORIES:Pilates Retreat
ATTACH;FMTTYPE=image/jpeg:https://www.pignoulet.com/wp-content/uploads/2022/04/B7B448BC-E4AD-473F-929E-870CDB2B3797.jpeg
END:VEVENT
BEGIN:VEVENT
DTSTART;VALUE=DATE:20270513
DTEND;VALUE=DATE:20270518
DTSTAMP:20260424T133944
CREATED:20190822T175420Z
LAST-MODIFIED:20260402T161708Z
UID:6348-1810166400-1810598399@www.pignoulet.com
SUMMARY:Private booking -  Pilates Retreat
DESCRIPTION:A group of friends – a Pilates and Yoga Retreat. Fresh air\, long walks\, lunches and many smiles…
URL:https://www.pignoulet.com/event/studio-34-pilates-retreat/
CATEGORIES:Pilates Retreat,Private Booking
ATTACH;FMTTYPE=image/jpeg:https://www.pignoulet.com/wp-content/uploads/2019/10/IMG_4153-e1571317728163.jpg
END:VEVENT
BEGIN:VEVENT
DTSTART;VALUE=DATE:20270519
DTEND;VALUE=DATE:20270524
DTSTAMP:20260424T133944
CREATED:20250102T161743Z
LAST-MODIFIED:20260402T162102Z
UID:33016-1810684800-1811116799@www.pignoulet.com
SUMMARY:Annelies Wymer - 2027 -  Pilates Retreat
DESCRIPTION:Annelie’s 3rd Retreat at Pignoulet. We so look forward to welcoming you and your clients back for your May 2027 Retreat. 4 days of movement\, Pilates and wellbeing – cocooned in our little corner of Gascony.
URL:https://www.pignoulet.com/event/najat-stefka-september-pilates-retreat/
LOCATION:Domaine du Pignoulet\, France
CATEGORIES:Pilates Retreat
ATTACH;FMTTYPE=image/jpeg:https://www.pignoulet.com/wp-content/uploads/2019/06/IMG_2200-e1559919089897.jpg
END:VEVENT
BEGIN:VEVENT
DTSTART;VALUE=DATE:20270528
DTEND;VALUE=DATE:20270702
DTSTAMP:20260424T133944
CREATED:20201105T145637Z
LAST-MODIFIED:20260402T161411Z
UID:8596-1811462400-1814486399@www.pignoulet.com
SUMMARY:Sue Giltnane Pilates Retreat
DESCRIPTION:.Looking forward to hosting Sue Giltnane’s first  retreat at Pignoulet in May 2027
URL:https://www.pignoulet.com/event/bendy-ladies-pilates-retreat-private-booking/
LOCATION:Domaine du Pignoulet\, France
CATEGORIES:Pilates Retreat
ATTACH;FMTTYPE=image/jpeg:https://www.pignoulet.com/wp-content/uploads/2019/08/IMG_2384-1-e1565963303692.jpg
END:VEVENT
BEGIN:VEVENT
DTSTART;VALUE=DATE:20270604
DTEND;VALUE=DATE:20270609
DTSTAMP:20260424T133944
CREATED:20240125T163154Z
LAST-MODIFIED:20260402T162512Z
UID:32602-1812067200-1812499199@www.pignoulet.com
SUMMARY:Pilates and walking weekend Retreat
DESCRIPTION:A group of friends – who over the years have become our friends as well. We can’t wait to welcome you all back …. Thank you – so much – you know who you are and we appreciate you xx
URL:https://www.pignoulet.com/event/wedding-weekend/
LOCATION:Domaine du Pignoulet\, France
CATEGORIES:Private Booking
ATTACH;FMTTYPE=image/jpeg:https://www.pignoulet.com/wp-content/uploads/2023/03/B9B1F7AA-DC08-4174-972D-C264E475076F.jpeg
END:VEVENT
END:VCALENDAR