BEGIN:VCALENDAR
VERSION:2.0
PRODID:-//Domaine du Pignoulet - ECPv6.3.0//NONSGML v1.0//EN
CALSCALE:GREGORIAN
METHOD:PUBLISH
X-ORIGINAL-URL:https://www.pignoulet.com
X-WR-CALDESC:Events for Domaine du Pignoulet
REFRESH-INTERVAL;VALUE=DURATION:PT1H
X-Robots-Tag:noindex
X-PUBLISHED-TTL:PT1H
BEGIN:VTIMEZONE
TZID:UTC
BEGIN:STANDARD
TZOFFSETFROM:+0000
TZOFFSETTO:+0000
TZNAME:UTC
DTSTART:20260101T000000
END:STANDARD
END:VTIMEZONE
BEGIN:VEVENT
DTSTART;VALUE=DATE:20260521
DTEND;VALUE=DATE:20260525
DTSTAMP:20260419T124721
CREATED:20240125T165203Z
LAST-MODIFIED:20260402T151640Z
UID:32608-1779321600-1779667199@www.pignoulet.com
SUMMARY:30th Birthday Celebrations
DESCRIPTION:A private booking for a celebratory weekend with friends & family
URL:https://www.pignoulet.com/event/30th-birthday-celebrations/
LOCATION:Domaine du Pignoulet\, France
CATEGORIES:Private Booking
ATTACH;FMTTYPE=image/jpeg:https://www.pignoulet.com/wp-content/uploads/2019/07/fullsizeoutput_559b.jpeg
END:VEVENT
BEGIN:VEVENT
DTSTART;VALUE=DATE:20260527
DTEND;VALUE=DATE:20260601
DTSTAMP:20260419T124721
CREATED:20240125T170221Z
LAST-MODIFIED:20260402T151829Z
UID:32610-1779840000-1780271999@www.pignoulet.com
SUMMARY:Private weekend Retreat booking
DESCRIPTION:A weekend with friends – making the most of time together where Pignoulet is filled with laughter & chatter. Long lunches al fresco and plenty of exercise and fresh air.
URL:https://www.pignoulet.com/event/private-weekend-booking/
LOCATION:Domaine du Pignoulet\, France
CATEGORIES:Private Booking
ATTACH;FMTTYPE=image/jpeg:https://www.pignoulet.com/wp-content/uploads/2023/03/B4ACCD49-190C-46B7-B849-936A88FF36FA-scaled.jpeg
END:VEVENT
BEGIN:VEVENT
DTSTART;VALUE=DATE:20260707
DTEND;VALUE=DATE:20260713
DTSTAMP:20260419T124721
CREATED:20260402T153541Z
LAST-MODIFIED:20260402T153541Z
UID:33195-1783382400-1783900799@www.pignoulet.com
SUMMARY:Private Retreat Booking
DESCRIPTION:A private Retreat booking for a group of friends. Pilates\, walking\, lunches & relaxation and hopefully a lot of chatter and laughter!
URL:https://www.pignoulet.com/event/private-retreat-booking/
CATEGORIES:Pilates Retreat
ATTACH;FMTTYPE=image/jpeg:https://www.pignoulet.com/wp-content/uploads/2021/09/AE713C03-A2BB-4D55-9C79-61B8DC40E922-1-scaled.jpeg
END:VEVENT
BEGIN:VEVENT
DTSTART;VALUE=DATE:20260716
DTEND;VALUE=DATE:20260726
DTSTAMP:20260419T124721
CREATED:20250102T164415Z
LAST-MODIFIED:20260402T153757Z
UID:33033-1784160000-1785023999@www.pignoulet.com
SUMMARY:Holiday booking
DESCRIPTION:Holliday at Pignoulet with family and friends. Including the first week of the Marciac Jazz Festival
URL:https://www.pignoulet.com/event/holiday-booking-2/
LOCATION:Domaine du Pignoulet\, France
CATEGORIES:Private Booking
ATTACH;FMTTYPE=image/jpeg:https://www.pignoulet.com/wp-content/uploads/2023/03/333B9EF8-2D4F-4AAD-B6D7-3DBE524BEBC3.jpeg
END:VEVENT
BEGIN:VEVENT
DTSTART;VALUE=DATE:20260902
DTEND;VALUE=DATE:20260907
DTSTAMP:20260419T124721
CREATED:20250102T161006Z
LAST-MODIFIED:20260402T154934Z
UID:33010-1788307200-1788739199@www.pignoulet.com
SUMMARY:Jo Fernandes Pilates Retreat
DESCRIPTION:We are so looking forward to hosting Jo’s second French Retreat at Pignoulet. A 4 night Retreat focusing on Pilates\, Wellbeing and some very special time together.
URL:https://www.pignoulet.com/event/jo-fernandes-pilates-retreat/
LOCATION:Domaine du Pignoulet\, France
CATEGORIES:Pilates Retreat
ATTACH;FMTTYPE=image/jpeg:https://www.pignoulet.com/wp-content/uploads/2019/08/fullsizeoutput_5c26.jpeg
END:VEVENT
BEGIN:VEVENT
DTSTART;VALUE=DATE:20270604
DTEND;VALUE=DATE:20270609
DTSTAMP:20260419T124721
CREATED:20240125T163154Z
LAST-MODIFIED:20260402T162512Z
UID:32602-1812067200-1812499199@www.pignoulet.com
SUMMARY:Pilates and walking weekend Retreat
DESCRIPTION:A group of friends – who over the years have become our friends as well. We can’t wait to welcome you all back …. Thank you – so much – you know who you are and we appreciate you xx
URL:https://www.pignoulet.com/event/wedding-weekend/
LOCATION:Domaine du Pignoulet\, France
CATEGORIES:Private Booking
ATTACH;FMTTYPE=image/jpeg:https://www.pignoulet.com/wp-content/uploads/2023/03/B9B1F7AA-DC08-4174-972D-C264E475076F.jpeg
END:VEVENT
END:VCALENDAR