BEGIN:VCALENDAR
VERSION:2.0
PRODID:-//Domaine du Pignoulet - ECPv6.3.0//NONSGML v1.0//EN
CALSCALE:GREGORIAN
METHOD:PUBLISH
X-WR-CALNAME:Domaine du Pignoulet
X-ORIGINAL-URL:https://www.pignoulet.com
X-WR-CALDESC:Events for Domaine du Pignoulet
REFRESH-INTERVAL;VALUE=DURATION:PT1H
X-Robots-Tag:noindex
X-PUBLISHED-TTL:PT1H
BEGIN:VTIMEZONE
TZID:UTC
BEGIN:STANDARD
TZOFFSETFROM:+0000
TZOFFSETTO:+0000
TZNAME:UTC
DTSTART:20260101T000000
END:STANDARD
END:VTIMEZONE
BEGIN:VEVENT
DTSTART;VALUE=DATE:20260602
DTEND;VALUE=DATE:20260608
DTSTAMP:20260422T122112
CREATED:20260402T152306Z
LAST-MODIFIED:20260402T152306Z
UID:33186-1780358400-1780876799@www.pignoulet.com
SUMMARY:Julie Crawford Summer Retreat
DESCRIPTION:Julie hosts a 5 day retreat focusing on Pilates and Wellbeing.
URL:https://www.pignoulet.com/event/julie-crawford-summer-retreat/
LOCATION:Domaine du Pignoulet\, France
CATEGORIES:Pilates Retreat
ATTACH;FMTTYPE=image/jpeg:https://www.pignoulet.com/wp-content/uploads/2023/03/6E979FA7-ACFD-48EF-AC83-7CECEBCD8986.jpeg
END:VEVENT
BEGIN:VEVENT
DTSTART;VALUE=DATE:20260623
DTEND;VALUE=DATE:20260629
DTSTAMP:20260422T122112
CREATED:20181107T173006Z
LAST-MODIFIED:20260402T152918Z
UID:6329-1782172800-1782691199@www.pignoulet.com
SUMMARY:@allbodiesclub - hosted by Simone Cymbal - Retreat
DESCRIPTION:We are very excited to be hosting Simone and her clients on her third French Retreat. We are so looking forward to welcoming you all – both old friends and new faces!
URL:https://www.pignoulet.com/event/simone-cymbal-retreat/
LOCATION:Domaine du Pignoulet\, France
CATEGORIES:Pilates Retreat
ATTACH;FMTTYPE=image/jpeg:https://www.pignoulet.com/wp-content/uploads/2023/03/782D2A58-890F-4A4C-9078-D2FFDE908103.jpeg
END:VEVENT
BEGIN:VEVENT
DTSTART;VALUE=DATE:20261002
DTEND;VALUE=DATE:20261007
DTSTAMP:20260422T122112
CREATED:20250102T163628Z
LAST-MODIFIED:20260402T155856Z
UID:33027-1790899200-1791331199@www.pignoulet.com
SUMMARY:Jenna Horne - Pilates Retreat
DESCRIPTION:Jenna’s second Retreat in France. We are looking forward to working with Jenna and hosting her beautiful clients for a weekend creeping into October 2025 gently!
URL:https://www.pignoulet.com/event/jenna-horne-pilates-retreat/
LOCATION:Domaine du Pignoulet\, France
CATEGORIES:Pilates Retreat
ATTACH;FMTTYPE=image/jpeg:https://www.pignoulet.com/wp-content/uploads/2023/05/50C01BE6-2D08-4BF9-B327-0C78BDA8BB42-scaled.jpeg
END:VEVENT
BEGIN:VEVENT
DTSTART;VALUE=DATE:20270513
DTEND;VALUE=DATE:20270518
DTSTAMP:20260422T122112
CREATED:20190822T175420Z
LAST-MODIFIED:20260402T161708Z
UID:6348-1810166400-1810598399@www.pignoulet.com
SUMMARY:Private booking -  Pilates Retreat
DESCRIPTION:A group of friends – a Pilates and Yoga Retreat. Fresh air\, long walks\, lunches and many smiles…
URL:https://www.pignoulet.com/event/studio-34-pilates-retreat/
CATEGORIES:Pilates Retreat,Private Booking
ATTACH;FMTTYPE=image/jpeg:https://www.pignoulet.com/wp-content/uploads/2019/10/IMG_4153-e1571317728163.jpg
END:VEVENT
END:VCALENDAR